BEGIN:VCALENDAR
VERSION:2.0
PRODID:-//SportenZ - ECPv6.15.20//NONSGML v1.0//EN
CALSCALE:GREGORIAN
METHOD:PUBLISH
X-ORIGINAL-URL:https://sportenz.com
X-WR-CALDESC:Eventi per SportenZ
REFRESH-INTERVAL;VALUE=DURATION:PT1H
X-Robots-Tag:noindex
X-PUBLISHED-TTL:PT1H
BEGIN:VTIMEZONE
TZID:Europe/Rome
BEGIN:DAYLIGHT
TZOFFSETFROM:+0100
TZOFFSETTO:+0200
TZNAME:CEST
DTSTART:20230326T010000
END:DAYLIGHT
BEGIN:STANDARD
TZOFFSETFROM:+0200
TZOFFSETTO:+0100
TZNAME:CET
DTSTART:20231029T010000
END:STANDARD
BEGIN:DAYLIGHT
TZOFFSETFROM:+0100
TZOFFSETTO:+0200
TZNAME:CEST
DTSTART:20240331T010000
END:DAYLIGHT
BEGIN:STANDARD
TZOFFSETFROM:+0200
TZOFFSETTO:+0100
TZNAME:CET
DTSTART:20241027T010000
END:STANDARD
BEGIN:DAYLIGHT
TZOFFSETFROM:+0100
TZOFFSETTO:+0200
TZNAME:CEST
DTSTART:20250330T010000
END:DAYLIGHT
BEGIN:STANDARD
TZOFFSETFROM:+0200
TZOFFSETTO:+0100
TZNAME:CET
DTSTART:20251026T010000
END:STANDARD
END:VTIMEZONE
BEGIN:VEVENT
DTSTART;TZID=Europe/Rome:20240901T180000
DTEND;TZID=Europe/Rome:20240908T183000
DTSTAMP:20260422T094253
CREATED:20240823T164719Z
LAST-MODIFIED:20240915T180020Z
UID:7046-1725213600-1725820200@sportenz.com
SUMMARY:Rodeo padel "Bye Bye Summer" 2024 (con piscina) - VOL. 1 & 2
DESCRIPTION:I rodei di arrivederci all’estate con saluto in piscina!! \nFORMULA\nRodeo mixicano diviso tra le domeniche 1 e 8 settembre. \nPrima bagno in piscina\, poi il rodeo e infine maxiaperitivo! \nKiller immediato e game parziali finali validi solo se superiori al 15-15. \nVince chi totalizza il maggior numero di game vinti: in caso di parità contano le vittorie e la maggiore differenza game. \n\nPARTECIPANTI\nVOLUME 1 (1 settembre) \n– Francesca\n– Kimma\n– Sabrina\n– Simonetta\n– Valentina C.\n– Valentina D. \n– Andrea B.\n– Endri\n– Giorgio\n– Luigi\n– Michele\n– Roby \nVOLUME 2 (8 settembre) \n– Paola\n– Paolina\n– Simonetta\n– Tania \n– Giorgio\n– Mauro\n– Ottavio\n– Paolo \n\nCLASSIFICHE E RISULTATI\n\n \n\nGALLERIA
URL:https://sportenz.com/event/rodeo-padel-bye-bye-summer-2024-con-piscina-vol-1-2/
ATTACH;FMTTYPE=image/jpeg:https://sportenz.com/wp-content/uploads/2023/08/bye-bye-summer-end-of-summer-concept-2022-04-19-16-27-22-utc.jpg
END:VEVENT
END:VCALENDAR