BEGIN:VCALENDAR
VERSION:2.0
PRODID:-//SportenZ - ECPv6.15.20//NONSGML v1.0//EN
CALSCALE:GREGORIAN
METHOD:PUBLISH
X-WR-CALNAME:SportenZ
X-ORIGINAL-URL:https://sportenz.com
X-WR-CALDESC:Eventi per SportenZ
REFRESH-INTERVAL;VALUE=DURATION:PT1H
X-Robots-Tag:noindex
X-PUBLISHED-TTL:PT1H
BEGIN:VTIMEZONE
TZID:Europe/Rome
BEGIN:DAYLIGHT
TZOFFSETFROM:+0100
TZOFFSETTO:+0200
TZNAME:CEST
DTSTART:20230326T010000
END:DAYLIGHT
BEGIN:STANDARD
TZOFFSETFROM:+0200
TZOFFSETTO:+0100
TZNAME:CET
DTSTART:20231029T010000
END:STANDARD
BEGIN:DAYLIGHT
TZOFFSETFROM:+0100
TZOFFSETTO:+0200
TZNAME:CEST
DTSTART:20240331T010000
END:DAYLIGHT
BEGIN:STANDARD
TZOFFSETFROM:+0200
TZOFFSETTO:+0100
TZNAME:CET
DTSTART:20241027T010000
END:STANDARD
BEGIN:DAYLIGHT
TZOFFSETFROM:+0100
TZOFFSETTO:+0200
TZNAME:CEST
DTSTART:20250330T010000
END:DAYLIGHT
BEGIN:STANDARD
TZOFFSETFROM:+0200
TZOFFSETTO:+0100
TZNAME:CET
DTSTART:20251026T010000
END:STANDARD
END:VTIMEZONE
BEGIN:VEVENT
DTSTART;TZID=Europe/Rome:20240225T180000
DTEND;TZID=Europe/Rome:20240225T200000
DTSTAMP:20260422T105837
CREATED:20231128T102345Z
LAST-MODIFIED:20250104T122039Z
UID:6510-1708884000-1708891200@sportenz.com
SUMMARY:Carnepadel 2024
DESCRIPTION:Seconda edizione del rodeo misto di padel in maschera. \nFORMULA\nREMIX\, ossia 4 tornei in 1: \n\nrodeo femminile da 8 giocatrici\nrodeo maschile da 8 giocatori\n2 turni finali a coppie miste fisse composte in base alle classifiche dei rodei precedenti\n\nSi disputano 2 rodei divisi per sesso che si articolano in 4 partite ciascuno\, al termine dei quali vengono stillate le seguenti classifiche: \nfemmina 1 (F1)\nfemmina 2 (F2)\nfemmina 3 (F3)\nfemmina 4 (F4)\nfemmina 5 (F5)\nfemmina 6 (F6)\nfemmina 7 (F7)\nfemmina 8 (F8) \nmaschio 1 (M1)\nmaschio 2 (M2)\nmaschio 3 (M3)\nmaschio 4 (M4)\nmaschio 5 (M5)\nmaschio 6 (M6)\nmaschio 7 (M7)\nmaschio 8 (M8) \nSi procede con i quarti di finale misti del turno unico:\nF1 e M2 contro F8 e M7 (QF1)\nF3 e M4 contro F6 e M5 (QF2)\nF4 e M3 contro F5 e M6 (QF3)\nF2 e M1 contro F7 e M8 (QF4) \nPoi\, semifinali del turno Gold:\nvinc.QF1 contro vinc.QF2 (SFG1)\nvinc.QF3 contro vinc.QF4 (SFG2)\nIn contemporanea\, semifinali del turno Silver:\nperd.QF1 contro perd.QF2 (SFS1)\nperd.QF3 contro perd.QF4 (SFS2) \nInfine\, le finali:\nGold: vinc.SFG1 contro vinc.SFG2\nSilver: vinc.SFS1 contro vinc.SFS2\nIn contemporanea\, per il terzo posto:\nGold: perd.SFG1 contro perd.SFG2\nSilver: perd.SFS1 contro perd.SFS2 \nAlla fine tutti giocano sempre! \nPremiati i vincitori dei rodei e di entrambe le finalissime Gold e Silver. \n\nREGOLE\n\ntutte le partite da 15 minuti ciascuna\, tranne le finali (anche per il terzo posto) da 18 minuti ciascuna\nkiller immediato\ni punteggi parziali impari del game al termine delle partite saranno considerati solo se maggiori del 15-0\n\nPer i rodei\, vince chi totalizza complessivamente più game (in caso di parità\, si considera\, nell’ordine\, la differenza game vinti/persi e il maggior numero di vittorie). \n\nPARTECIPANTI\n– Giulia\n– Kimma\n– Pamela\n– Paola\n– Paolina\n– Sabrina\n– Simonetta\n– Tania \n– Filippo\n– Luca\n– Luigi\n– Marco (da Giulia)\n– Matteo D.\n– Ottavio\n– Paolo / Michele\n– Roberto R. \n\nCLASSIFICHE E RISULTATI\n\nVINCITRICE:\nSimonetta \n\nVINCITORE:\nLuca \nTURNO UNICO TORNEO MISTO\nSimonetta-Matteo vs. Roberto-Paolina: 5-1\nPamela-Luca vs. Tania-Filippo: 9-0\nGiulia-Luigi vs. Kimma-Ottavio: 4-3\nSabrina-Michele vs. Paola-Marco: 4-3 \nTORNEO MISTO GOLD\nsemifinali:\nSimonetta-Matteo vs. Pamela-Luca: 4-2\nSabrina-Michele vs. Giulia-Luigi: 4-3 (al killer) \nterzo posto:\nGiulia luigi vs. Pamela-Luca: 3-5 \nfinalissima:\nSimonetta-Matteo vs. Sabrina-Michele: 3-4 \nTORNEO MISTO SILVER\nSemifinali:\nRoberto-Paolina vs. Tania-Filippo: 5-2\nKimma-Ottavio vs. Paola-Marco: 3-2 \nterzo posto:\nTania-Filippo vs. Paola-Marco: 3-4 \nfinalissima:\nRoby paolina vs. Ottavio kimma: 2-7 \nPREMI MIGLIORI MASCHERE \nmaschile:\nMatteo \nfemminile:\nPaola \nGALLERIA
URL:https://sportenz.com/event/carnepadel-2024/
LOCATION:Country Sport Village Paderno Dugnano\, Via Guglielmo Pepe\, 68\, Paderno Dugnano\, 20037\, Italia
CATEGORIES:Padel
ATTACH;FMTTYPE=image/jpeg:https://sportenz.com/wp-content/uploads/2023/11/carnepadel-2024-tutti-4x3-1.jpg
END:VEVENT
END:VCALENDAR