BEGIN:VCALENDAR
VERSION:2.0
PRODID:-//SportenZ - ECPv6.15.20//NONSGML v1.0//EN
CALSCALE:GREGORIAN
METHOD:PUBLISH
X-ORIGINAL-URL:https://sportenz.com
X-WR-CALDESC:Eventi per SportenZ
REFRESH-INTERVAL;VALUE=DURATION:PT1H
X-Robots-Tag:noindex
X-PUBLISHED-TTL:PT1H
BEGIN:VTIMEZONE
TZID:Europe/Rome
BEGIN:DAYLIGHT
TZOFFSETFROM:+0100
TZOFFSETTO:+0200
TZNAME:CEST
DTSTART:20230326T010000
END:DAYLIGHT
BEGIN:STANDARD
TZOFFSETFROM:+0200
TZOFFSETTO:+0100
TZNAME:CET
DTSTART:20231029T010000
END:STANDARD
BEGIN:DAYLIGHT
TZOFFSETFROM:+0100
TZOFFSETTO:+0200
TZNAME:CEST
DTSTART:20240331T010000
END:DAYLIGHT
BEGIN:STANDARD
TZOFFSETFROM:+0200
TZOFFSETTO:+0100
TZNAME:CET
DTSTART:20241027T010000
END:STANDARD
BEGIN:DAYLIGHT
TZOFFSETFROM:+0100
TZOFFSETTO:+0200
TZNAME:CEST
DTSTART:20250330T010000
END:DAYLIGHT
BEGIN:STANDARD
TZOFFSETFROM:+0200
TZOFFSETTO:+0100
TZNAME:CET
DTSTART:20251026T010000
END:STANDARD
END:VTIMEZONE
BEGIN:VEVENT
DTSTART;TZID=Europe/Rome:20240721T180000
DTEND;TZID=Europe/Rome:20240721T193000
DTSTAMP:20260420T115150
CREATED:20240715T155348Z
LAST-MODIFIED:20240725T103435Z
UID:7009-1721584800-1721590200@sportenz.com
SUMMARY:rodeino padel Supermaxigrill 2024
DESCRIPTION:  \n \n  \nIl mini-rodeo misto da 8 persone + grigliata finale!! \nRodeo misto al Giada di Solaro\, campi 1 e 2\, con coppie che cambiano ad ogni turno di partite. \nPremiati i primi classificati per entrambi i sessi. \nA seguire\, supermaxigrigliata al vicino leggendario Raffaele Grill! \nPARTECIPANTI\nLucia\nPaolina\nSabrina\nTania \nAntonio\nLuigi\nMichele\nOttavio \n\nCLASSIFICA E RISULTATI\n\nGALLERIA
URL:https://sportenz.com/event/rodeino-padel-supermaxigrill-2024/
LOCATION:Sporting Giada Solaro\, Via Enrico Berlinguer\, 2B\, Solaro\, MI\, 20020\, Italia
CATEGORIES:Padel
ATTACH;FMTTYPE=image/jpeg:https://sportenz.com/wp-content/uploads/2023/05/supermaxigrillrodeo.jpg
END:VEVENT
END:VCALENDAR