BEGIN:VCALENDAR
VERSION:2.0
PRODID:-//SportenZ - ECPv6.15.20//NONSGML v1.0//EN
CALSCALE:GREGORIAN
METHOD:PUBLISH
X-WR-CALNAME:SportenZ
X-ORIGINAL-URL:https://sportenz.com
X-WR-CALDESC:Eventi per SportenZ
REFRESH-INTERVAL;VALUE=DURATION:PT1H
X-Robots-Tag:noindex
X-PUBLISHED-TTL:PT1H
BEGIN:VTIMEZONE
TZID:Europe/Rome
BEGIN:DAYLIGHT
TZOFFSETFROM:+0100
TZOFFSETTO:+0200
TZNAME:CEST
DTSTART:20240331T010000
END:DAYLIGHT
BEGIN:STANDARD
TZOFFSETFROM:+0200
TZOFFSETTO:+0100
TZNAME:CET
DTSTART:20241027T010000
END:STANDARD
BEGIN:DAYLIGHT
TZOFFSETFROM:+0100
TZOFFSETTO:+0200
TZNAME:CEST
DTSTART:20250330T010000
END:DAYLIGHT
BEGIN:STANDARD
TZOFFSETFROM:+0200
TZOFFSETTO:+0100
TZNAME:CET
DTSTART:20251026T010000
END:STANDARD
BEGIN:DAYLIGHT
TZOFFSETFROM:+0100
TZOFFSETTO:+0200
TZNAME:CEST
DTSTART:20260329T010000
END:DAYLIGHT
BEGIN:STANDARD
TZOFFSETFROM:+0200
TZOFFSETTO:+0100
TZNAME:CET
DTSTART:20261025T010000
END:STANDARD
END:VTIMEZONE
BEGIN:VEVENT
DTSTART;TZID=Europe/Rome:20250126T183000
DTEND;TZID=Europe/Rome:20250126T203000
DTSTAMP:20260420T013634
CREATED:20250105T105401Z
LAST-MODIFIED:20250126T225240Z
UID:7212-1737916200-1737923400@sportenz.com
SUMMARY:rodeuccio padel "Winter Remix" 2025
DESCRIPTION:Il rodeuccio per ricominciare l’inverno con un bel mischione padelistico! \nFORMULA\n4 tornei in 1: \n\nrodeo femminile da 8 giocatrici\nrodeo maschile da 8 giocatori\n1 turno unico da cui 2 tabelloni finali da due turni ciascuno a coppie miste fisse composte in base alle classifiche dei rodei precedenti\n\nSi disputano 2 rodei divisi per sesso che si articolano in 4 partite ciascuno\, al termine dei quali risulteranno le seguenti classifiche: \nfemmina 1 (F1)\nfemmina 2 (F2)\nfemmina 3 (F3)\nfemmina 4 (F4)\nfemmina 5 (F5)\nfemmina 6 (F6)\nfemmina 7 (F7)\nfemmina 8 (F8) \nmaschio 1 (M1)\nmaschio 2 (M2)\nmaschio 3 (M3)\nmaschio 4 (M4)\nmaschio 5 (M5)\nmaschio 6 (M6)\nmaschio 7 (M7)\nmaschio 8 (M8) \nSi procede con i quarti di finale misti del turno unico: \nF1 e M2 contro F8 e M7 (QF1)\nF3 e M4 contro F6 e M5 (QF2)\nF4 e M3 contro F5 e M6 (QF3)\nF2 e M1 contro F7 e M8 (QF4) \nPoi\, semifinali del tabellone Gold: \nvinc.QF1 contro vinc.QF2 (SFG1)\nvinc.QF3 contro vinc.QF4 (SFG2) \nIn contemporanea\, semifinali del tabellone Silver: \nperd.QF1 contro perd.QF2 (SFS1)\nperd.QF3 contro perd.QF4 (SFS2) \nInfine\, le finali: \nGold: vinc.SFG1 contro vinc.SFG2\nSilver: vinc.SFS1 contro vinc.SFS2 \nIn contemporanea\, per il terzo posto: \nGold: perd.SFG1 contro perd.SFG2\nSilver: perd.SFS1 contro perd.SFS2 \nAlla fine tutti giocano sempre! \nPremiati i vincitori dei rodei e di entrambe le finalissime Gold e Silver. \nPalline offerte dal Country. \n\nREGOLE\n\npartite dei due rodei da 13 minuti ciascuna\nquarti e semifinali da 15 minuti\, finali (anche per il terzo posto) da 20 minuti\nkiller immediato\ni punteggi parziali impari del game al termine delle partite saranno considerati solo se vengono giocati almeno due punti\n\nPer i rodeini\, vince chi totalizza complessivamente più game (in caso di parità\, si considera il maggior numero di vittorie e la differenza game vinti/persi). \n\nPARTECIPANTI\nFrancesca\nMary\nPamela\nPaola\nSabrina\nSabrina M.\nSimonetta\nTania \nAlessandro\nGianni\nLuigi\nMauro\nMichele\nOttavio\nPaolo\nRoby \n\nRISULTATI\nRODEO FEMMINILE \n \nVINCITRICE: Mary \nRODEO MASCHILE \n \nVINCITORE: Roby \nTORNEO FASE UNICA \nquarti di finale\nMary / Ottavio – Pamela / Gianni = 6-0\nSimonetta / Mauro – Paola / Luigi = 5-1\nSabrina / Alessandro – Sabrina M. – Paolo = 3-4\nFrancesca / Roby – Tania / Michele = 3-4 \nTORNEO GOLD \nsemifinali\nMary / Ottavio – Simonetta / Mauro = 6-1\nSabrina M. / Paolo – Tania / Michele = 2-3 \nfinalissima\nMary / Ottavio – Tania / Michele = 6-4 \n3° posto\nSimonetta – Mauro – Sabrina M. / Paolo = 6-2 \nTORNEO SILVER \nsemifinali\nPamela / Gianni – Paola / Luigi = 4-2\nSabrina / Alessandro – Francesca / Roby = 3-4 \nfinale\nPamela / Gianni – Francesca / Roby = 4-5 \n3° posto\nSabrina / Alessandro – Paola / Luigi = 5-4 \nGALLERIA
URL:https://sportenz.com/event/rodeuccio-padel-winter-remix-2025/
LOCATION:Country Sport Village Paderno Dugnano\, Via Guglielmo Pepe\, 68\, Paderno Dugnano\, 20037\, Italia
CATEGORIES:Padel
ATTACH;FMTTYPE=image/jpeg:https://sportenz.com/wp-content/uploads/2025/01/winter-remix-2025-foto-1b.jpg
END:VEVENT
END:VCALENDAR