BEGIN:VCALENDAR
VERSION:2.0
PRODID:-//SportenZ - ECPv6.15.20//NONSGML v1.0//EN
CALSCALE:GREGORIAN
METHOD:PUBLISH
X-ORIGINAL-URL:https://sportenz.com
X-WR-CALDESC:Eventi per SportenZ
REFRESH-INTERVAL;VALUE=DURATION:PT1H
X-Robots-Tag:noindex
X-PUBLISHED-TTL:PT1H
BEGIN:VTIMEZONE
TZID:Europe/Rome
BEGIN:DAYLIGHT
TZOFFSETFROM:+0100
TZOFFSETTO:+0200
TZNAME:CEST
DTSTART:20240331T010000
END:DAYLIGHT
BEGIN:STANDARD
TZOFFSETFROM:+0200
TZOFFSETTO:+0100
TZNAME:CET
DTSTART:20241027T010000
END:STANDARD
BEGIN:DAYLIGHT
TZOFFSETFROM:+0100
TZOFFSETTO:+0200
TZNAME:CEST
DTSTART:20250330T010000
END:DAYLIGHT
BEGIN:STANDARD
TZOFFSETFROM:+0200
TZOFFSETTO:+0100
TZNAME:CET
DTSTART:20251026T010000
END:STANDARD
BEGIN:DAYLIGHT
TZOFFSETFROM:+0100
TZOFFSETTO:+0200
TZNAME:CEST
DTSTART:20260329T010000
END:DAYLIGHT
BEGIN:STANDARD
TZOFFSETFROM:+0200
TZOFFSETTO:+0100
TZNAME:CET
DTSTART:20261025T010000
END:STANDARD
END:VTIMEZONE
BEGIN:VEVENT
DTSTART;TZID=Europe/Rome:20250731T210000
DTEND;TZID=Europe/Rome:20250731T223000
DTSTAMP:20260419T161045
CREATED:20250719T115903Z
LAST-MODIFIED:20250802T100948Z
UID:7650-1753995600-1754001000@sportenz.com
SUMMARY:Rodeino "PadOOL" 2025
DESCRIPTION:Il rodeino di fine luglio con tanto di bagno in piscina e aperitivo!! \nFORMULA\nRodeo in formula remix da 8 giocatori. \nPremiati prima e primo classificati. \nPrima e dopo\, bagno in piscina e maxiaperitivo compresi nella quota! \n\nPARTECIPANTI\n– Kimma\n– Paolina\n– Sabrina\n– Suada\n– Cristiano\n– Daniele\n– Lorenzo\n– Michele \n\nRISULTATI\nRODEO FEMMINILE \n \nVINCITRICE: Kimma \nRODEO MASCHILE \n \nVINCITORE: Cristiano \nTORNEO FASE UNICA \nsemifinali\nSuada / Cristiano – Sabrina / Michele = 5-3\nKimma / Daniele – Paolina / Lorenzo = 4-3 \nfinalissima\nSuada / Cristiano – Kimma / Daniele = 4-3 \n3° posto\nSabrina / Michele – Paolina / Lorenzo = 4-3 \nGALLERIA
URL:https://sportenz.com/event/rodeino-padool-2025/
LOCATION:Bestennis Cinisello Balsamo\, Via E. de Amicis\, 80\, Cinisello Balsamo\, 20092\, Italia
CATEGORIES:Padel
ATTACH;FMTTYPE=image/jpeg:https://sportenz.com/wp-content/uploads/2025/07/padool-2025-1.jpg
END:VEVENT
END:VCALENDAR