BEGIN:VCALENDAR
VERSION:2.0
PRODID:-//SportenZ - ECPv6.15.20//NONSGML v1.0//EN
CALSCALE:GREGORIAN
METHOD:PUBLISH
X-ORIGINAL-URL:https://sportenz.com
X-WR-CALDESC:Eventi per SportenZ
REFRESH-INTERVAL;VALUE=DURATION:PT1H
X-Robots-Tag:noindex
X-PUBLISHED-TTL:PT1H
BEGIN:VTIMEZONE
TZID:Europe/Rome
BEGIN:DAYLIGHT
TZOFFSETFROM:+0100
TZOFFSETTO:+0200
TZNAME:CEST
DTSTART:20240331T010000
END:DAYLIGHT
BEGIN:STANDARD
TZOFFSETFROM:+0200
TZOFFSETTO:+0100
TZNAME:CET
DTSTART:20241027T010000
END:STANDARD
BEGIN:DAYLIGHT
TZOFFSETFROM:+0100
TZOFFSETTO:+0200
TZNAME:CEST
DTSTART:20250330T010000
END:DAYLIGHT
BEGIN:STANDARD
TZOFFSETFROM:+0200
TZOFFSETTO:+0100
TZNAME:CET
DTSTART:20251026T010000
END:STANDARD
BEGIN:DAYLIGHT
TZOFFSETFROM:+0100
TZOFFSETTO:+0200
TZNAME:CEST
DTSTART:20260329T010000
END:DAYLIGHT
BEGIN:STANDARD
TZOFFSETFROM:+0200
TZOFFSETTO:+0100
TZNAME:CET
DTSTART:20261025T010000
END:STANDARD
END:VTIMEZONE
BEGIN:VEVENT
DTSTART;TZID=Europe/Rome:20250119T100000
DTEND;TZID=Europe/Rome:20250119T120000
DTSTAMP:20260420T032318
CREATED:20241212T183723Z
LAST-MODIFIED:20250123T094734Z
UID:7169-1737280800-1737288000@sportenz.com
SUMMARY:Rodeo doppio tennis "Stallo alla messicana"
DESCRIPTION:FORMULA\nRodeo alla messicana: si gioca senza vantaggi ad oltranza di giochi in 7 turni da 15 minuti ciascuno al termine dei quali le coppie cambiano in modo che tutti giochino con tutti. Il gioco parziale al termine del turno è valido solo se con punteggio impari e con almeno due punti giocati. \nVince chi totalizza il maggior numero di giochi vinti: in caso di parità contano le vittorie e la maggiore differenza game. \nPalline offerte da SportenZ. \nPremiati i primi due classificati. \nPARTECIPANTI\n– Alessandro\n– Brenno\n– Giampaolo\n– Gianpaolo\n– Massimiliano\n– Michele\n– Riccardo\n– Roberto \n\nCLASSIFICA E RISULTATI\n \n1° PREMIO: Brenno\n2° PREMIO: Alessandro \nGALLERIA
URL:https://sportenz.com/event/rodeo-doppio-tennis-stallo-alla-messicana/
LOCATION:Tennis Cesano Maderno\, Via Po 55\, Cesano Maderno\, Italy
CATEGORIES:Tennis
ATTACH;FMTTYPE=image/jpeg:https://sportenz.com/wp-content/uploads/2024/12/Stallo-alla-Messicana-2025-foto1.jpg
END:VEVENT
END:VCALENDAR