BEGIN:VCALENDAR
VERSION:2.0
PRODID:-//SportenZ - ECPv6.15.20//NONSGML v1.0//EN
CALSCALE:GREGORIAN
METHOD:PUBLISH
X-WR-CALNAME:SportenZ
X-ORIGINAL-URL:https://sportenz.com
X-WR-CALDESC:Eventi per SportenZ
REFRESH-INTERVAL;VALUE=DURATION:PT1H
X-Robots-Tag:noindex
X-PUBLISHED-TTL:PT1H
BEGIN:VTIMEZONE
TZID:UTC
BEGIN:STANDARD
TZOFFSETFROM:+0000
TZOFFSETTO:+0000
TZNAME:UTC
DTSTART:20220101T000000
END:STANDARD
END:VTIMEZONE
BEGIN:VEVENT
DTSTART;TZID=UTC:20230219T090000
DTEND;TZID=UTC:20230219T120000
DTSTAMP:20260419T191153
CREATED:20220108T070356Z
LAST-MODIFIED:20230702T164343Z
UID:4081-1676797200-1676808000@sportenz.com
SUMMARY:Carnepadel 2023
DESCRIPTION:Si è svolta la prima edizione dell’attesissimo rodeo misto di padel in maschera.\nFORMULA\nRodeo misto alla messicana con coppie che cambiano in base alle classifica progressiva ad ogni turno di partite. Si è disputato domenica 19 febbraio 2023 dalle 9:30 alle 12:30 su tutti i tre campi coperti di padel del Bestennis a Cinisello Balsamo. \nPARTECIPANTI\n\nRocco\nMassimo\nFilippo\nMatteo\nDaniele\nRoby\nAndrea\nPaolo\nAntonio\n\n  \n\nClarissa\nSimonetta\nMarta\nCristina\nPaolina\nKimma\nPaola\nValentina\nGabri\n\n\nCLASSIFICA E RISULTATI\n\nVINCITORI\nRegina di Carnepadel: CRISTINA\nRe di Carnepadel: ROBY \nSeconda classificata: Kimma (premiata: Paolina)\nSecondo classificato: Paolo \nLady dresstar: Simonetta (ape Maia)\nSir dresstar: Roby (Fred Flinstone) \nGALLERIA
URL:https://sportenz.com/event/carnepadel-2023/
LOCATION:Bestennis Cinisello Balsamo\, Via E. de Amicis\, 80\, Cinisello Balsamo\, 20092\, Italia
CATEGORIES:Padel
ATTACH;FMTTYPE=image/jpeg:https://sportenz.com/wp-content/uploads/2021/02/carnepadel2.jpg
END:VEVENT
END:VCALENDAR