BEGIN:VCALENDAR
VERSION:2.0
PRODID:-//SportenZ - ECPv6.15.20//NONSGML v1.0//EN
CALSCALE:GREGORIAN
METHOD:PUBLISH
X-WR-CALNAME:SportenZ
X-ORIGINAL-URL:https://sportenz.com
X-WR-CALDESC:Eventi per SportenZ
REFRESH-INTERVAL;VALUE=DURATION:PT1H
X-Robots-Tag:noindex
X-PUBLISHED-TTL:PT1H
BEGIN:VTIMEZONE
TZID:Europe/Rome
BEGIN:DAYLIGHT
TZOFFSETFROM:+0100
TZOFFSETTO:+0200
TZNAME:CEST
DTSTART:20220327T010000
END:DAYLIGHT
BEGIN:STANDARD
TZOFFSETFROM:+0200
TZOFFSETTO:+0100
TZNAME:CET
DTSTART:20221030T010000
END:STANDARD
BEGIN:DAYLIGHT
TZOFFSETFROM:+0100
TZOFFSETTO:+0200
TZNAME:CEST
DTSTART:20230326T010000
END:DAYLIGHT
BEGIN:STANDARD
TZOFFSETFROM:+0200
TZOFFSETTO:+0100
TZNAME:CET
DTSTART:20231029T010000
END:STANDARD
BEGIN:DAYLIGHT
TZOFFSETFROM:+0100
TZOFFSETTO:+0200
TZNAME:CEST
DTSTART:20240331T010000
END:DAYLIGHT
BEGIN:STANDARD
TZOFFSETFROM:+0200
TZOFFSETTO:+0100
TZNAME:CET
DTSTART:20241027T010000
END:STANDARD
END:VTIMEZONE
BEGIN:VEVENT
DTSTART;TZID=Europe/Rome:20231126T110000
DTEND;TZID=Europe/Rome:20231126T130000
DTSTAMP:20260423T005210
CREATED:20231108T214643Z
LAST-MODIFIED:20231222T150213Z
UID:6449-1700996400-1701003600@sportenz.com
SUMMARY:Rodeo “Jingle Padel” 2023 (con pranzo natalizio)
DESCRIPTION:Il rodeo in veste natalizia! \nFORMULA\nRodeo misto da 20 partecipanti\, le cui coppie cambiano ad ogni turno di partite. \nObbligatorio giocare vestiti in tema natalizio! \nPremiati i primi due classificati per sesso. \nA seguire\, super pranzo natalizio. \nPARTECIPANTI\n– Giulia\n– Laura\n– Mary\n– Marta\n– Mirella\n– Pamela\n– Paola\n– Paolina\n– Sabrina\n– Stefania \n– Andrea\n– Cristiano\n– Filippo G.\n– Gaetano\n– Marco (di Giulia)\n– Michele\n– Orviano\n– Ottavio\n– Paolo\n– Roberto A. \n\nCLASSIFICA E RISULTATI\n\nVINCITORI\nLE PIÙ BUONE:\n1° premio: Mary\n2° premio: Mirella \nI PIÙ BUONI:\n1° premio: Michele\n2° premio: Roberto A. \nGALLERIA
URL:https://sportenz.com/event/rodeo-jingle-padel-2023-con-pranzo-natalizio/
LOCATION:Country Sport Village Paderno Dugnano\, Via Guglielmo Pepe\, 68\, Paderno Dugnano\, 20037\, Italia
CATEGORIES:Padel
ATTACH;FMTTYPE=image/jpeg:https://sportenz.com/wp-content/uploads/2023/11/snowman-with-tennis-for-christmas-holiday-on-green-2023-01-11-23-08-36-utc.jpg
END:VEVENT
END:VCALENDAR